Package: SMAP Version: 1.66.0 Command: /Library/Frameworks/R.framework/Resources/bin/R CMD build --keep-empty-dirs --no-resave-data SMAP StartedAt: 2024-04-17 03:01:01 -0400 (Wed, 17 Apr 2024) EndedAt: 2024-04-17 03:01:25 -0400 (Wed, 17 Apr 2024) EllapsedTime: 24.1 seconds RetCode: 0 Status: OK PackageFile: SMAP_1.66.0.tar.gz PackageFileSize: 4.375 MiB