Package: SMAP Version: 1.66.0 Command: rm -rf SMAP.buildbin-libdir && mkdir SMAP.buildbin-libdir && /Users/biocbuild/BBS/utils/build-universal.sh SMAP_1.66.0.tar.gz /Library/Frameworks/R.framework/Resources/bin/R SMAP.buildbin-libdir StartedAt: 2024-04-18 11:21:38 -0400 (Thu, 18 Apr 2024) EndedAt: 2024-04-18 11:21:50 -0400 (Thu, 18 Apr 2024) EllapsedTime: 12.4 seconds RetCode: 0 Status: OK PackageFile: SMAP_1.66.0.tgz PackageFileSize: 4.608 MiB