Package: SISPA Version: 1.32.0 Command: /Library/Frameworks/R.framework/Resources/bin/R CMD build --keep-empty-dirs --no-resave-data SISPA StartedAt: 2024-04-17 02:58:22 -0400 (Wed, 17 Apr 2024) EndedAt: 2024-04-17 02:59:37 -0400 (Wed, 17 Apr 2024) EllapsedTime: 75.2 seconds RetCode: 0 Status: OK PackageFile: SISPA_1.32.0.tar.gz PackageFileSize: 276.8 KiB