Package: SICtools Version: 1.32.0 Command: /Library/Frameworks/R.framework/Resources/bin/R CMD build --keep-empty-dirs --no-resave-data SICtools StartedAt: 2024-04-17 02:43:01 -0400 (Wed, 17 Apr 2024) EndedAt: 2024-04-17 02:43:59 -0400 (Wed, 17 Apr 2024) EllapsedTime: 58.2 seconds RetCode: 0 Status: OK PackageFile: SICtools_1.32.0.tar.gz PackageFileSize: 1.531 MiB