Package: SICtools Version: 1.32.0 Maintainer: Xiaobin Xing MaintainerEmail: xiaobinxing0316 at gmail.com git_url: https://git.bioconductor.org/packages/SICtools git_branch: RELEASE_3_18 git_last_commit: 49e086b git_last_commit_date: 2023-10-24 10:45:43 -0400 (Tue, 24 Oct 2023)