Package: SIAMCAT Version: 2.6.0 Command: /Library/Frameworks/R.framework/Resources/bin/R CMD INSTALL SIAMCAT StartedAt: 2024-04-16 12:11:37 -0400 (Tue, 16 Apr 2024) EndedAt: 2024-04-16 12:12:14 -0400 (Tue, 16 Apr 2024) EllapsedTime: 36.4 seconds RetCode: 0 Status: OK