Package: SGCP Version: 1.2.0 Command: rm -rf SGCP.buildbin-libdir && mkdir SGCP.buildbin-libdir && /Users/biocbuild/BBS/utils/build-universal.sh SGCP_1.2.0.tar.gz /Library/Frameworks/R.framework/Resources/bin/R SGCP.buildbin-libdir StartedAt: 2024-03-07 10:34:30 -0500 (Thu, 07 Mar 2024) EndedAt: 2024-03-07 10:35:45 -0500 (Thu, 07 Mar 2024) EllapsedTime: 74.8 seconds RetCode: 0 Status: OK PackageFile: SGCP_1.2.0.tgz PackageFileSize: 2.669 MiB