Package: SEtools Version: 1.16.0 Command: /Library/Frameworks/R.framework/Resources/bin/R CMD build --keep-empty-dirs --no-resave-data SEtools StartedAt: 2024-04-17 02:39:17 -0400 (Wed, 17 Apr 2024) EndedAt: 2024-04-17 02:40:21 -0400 (Wed, 17 Apr 2024) EllapsedTime: 64.0 seconds RetCode: 0 Status: OK PackageFile: SEtools_1.16.0.tar.gz PackageFileSize: 537.9 KiB