Package: SEtools Version: 1.16.0 Command: rm -rf SEtools.buildbin-libdir && mkdir SEtools.buildbin-libdir && /Users/biocbuild/BBS/utils/build-universal.sh SEtools_1.16.0.tar.gz /Library/Frameworks/R.framework/Resources/bin/R SEtools.buildbin-libdir StartedAt: 2024-04-18 11:16:31 -0400 (Thu, 18 Apr 2024) EndedAt: 2024-04-18 11:17:25 -0400 (Thu, 18 Apr 2024) EllapsedTime: 53.5 seconds RetCode: 0 Status: OK PackageFile: SEtools_1.16.0.tgz PackageFileSize: 375.4 KiB