Package: SEtools Version: 1.16.0 Maintainer: Pierre-Luc Germain MaintainerEmail: pierre-luc.germain at hest.ethz.ch git_url: https://git.bioconductor.org/packages/SEtools git_branch: RELEASE_3_18 git_last_commit: e4c1465 git_last_commit_date: 2023-10-24 11:16:19 -0400 (Tue, 24 Oct 2023)