Package: SEPIRA Version: 1.22.0 Command: /Library/Frameworks/R.framework/Resources/bin/R CMD check --install=check:SEPIRA.install-out.txt --library=/Library/Frameworks/R.framework/Resources/library --no-vignettes --timings SEPIRA_1.22.0.tar.gz StartedAt: 2024-04-18 03:29:41 -0400 (Thu, 18 Apr 2024) EndedAt: 2024-04-18 03:30:20 -0400 (Thu, 18 Apr 2024) EllapsedTime: 39.8 seconds RetCode: 0 Status: WARNINGS CheckDir: SEPIRA.Rcheck Warnings: 1