Package: SCOPE Version: 1.14.0 Command: /Library/Frameworks/R.framework/Resources/bin/R CMD INSTALL SCOPE StartedAt: 2024-04-16 10:53:48 -0400 (Tue, 16 Apr 2024) EndedAt: 2024-04-16 10:54:32 -0400 (Tue, 16 Apr 2024) EllapsedTime: 44.1 seconds RetCode: 0 Status: OK