Package: SCOPE Version: 1.14.0 Command: /Library/Frameworks/R.framework/Resources/bin/R CMD build --keep-empty-dirs --no-resave-data SCOPE StartedAt: 2024-04-17 02:10:40 -0400 (Wed, 17 Apr 2024) EndedAt: 2024-04-17 02:20:55 -0400 (Wed, 17 Apr 2024) EllapsedTime: 615.2 seconds RetCode: 0 Status: OK PackageFile: SCOPE_1.14.0.tar.gz PackageFileSize: 391.7 KiB