Package: SCOPE Version: 1.14.0 Command: rm -rf SCOPE.buildbin-libdir && mkdir SCOPE.buildbin-libdir && /Users/biocbuild/BBS/utils/build-universal.sh SCOPE_1.14.0.tar.gz /Library/Frameworks/R.framework/Resources/bin/R SCOPE.buildbin-libdir StartedAt: 2024-04-18 11:11:08 -0400 (Thu, 18 Apr 2024) EndedAt: 2024-04-18 11:12:05 -0400 (Thu, 18 Apr 2024) EllapsedTime: 56.2 seconds RetCode: 0 Status: OK PackageFile: SCOPE_1.14.0.tgz PackageFileSize: 586 KiB