Package: SCATE Version: 1.12.0 Command: /Library/Frameworks/R.framework/Resources/bin/R CMD check --install=check:SCATE.install-out.txt --library=/Library/Frameworks/R.framework/Resources/library --no-vignettes --timings SCATE_1.12.0.tar.gz StartedAt: 2024-04-18 02:37:00 -0400 (Thu, 18 Apr 2024) EndedAt: 2024-04-18 02:49:11 -0400 (Thu, 18 Apr 2024) EllapsedTime: 730.8 seconds RetCode: 0 Status: WARNINGS CheckDir: SCATE.Rcheck Warnings: 1