Package: SCATE Version: 1.12.0 Command: /Library/Frameworks/R.framework/Resources/bin/R CMD build --keep-empty-dirs --no-resave-data SCATE StartedAt: 2024-04-17 01:44:28 -0400 (Wed, 17 Apr 2024) EndedAt: 2024-04-17 02:08:03 -0400 (Wed, 17 Apr 2024) EllapsedTime: 1414.6 seconds RetCode: 0 Status: OK PackageFile: SCATE_1.12.0.tar.gz PackageFileSize: 508.2 KiB