Package: SCAN.UPC Version: 2.44.0 Command: /Library/Frameworks/R.framework/Resources/bin/R CMD INSTALL SCAN.UPC StartedAt: 2024-04-16 11:59:30 -0400 (Tue, 16 Apr 2024) EndedAt: 2024-04-16 12:00:12 -0400 (Tue, 16 Apr 2024) EllapsedTime: 41.9 seconds RetCode: 0 Status: OK