Package: SBGNview Version: 1.16.0 Command: rm -rf SBGNview.buildbin-libdir && mkdir SBGNview.buildbin-libdir && /Users/biocbuild/BBS/utils/build-universal.sh SBGNview_1.16.0.tar.gz /Library/Frameworks/R.framework/Resources/bin/R SBGNview.buildbin-libdir StartedAt: 2024-04-18 11:05:56 -0400 (Thu, 18 Apr 2024) EndedAt: 2024-04-18 11:06:52 -0400 (Thu, 18 Apr 2024) EllapsedTime: 56.0 seconds RetCode: 0 Status: OK PackageFile: SBGNview_1.16.0.tgz PackageFileSize: 2.075 MiB