Package: SARC Version: 1.0.0 Command: /Library/Frameworks/R.framework/Resources/bin/R CMD build --keep-empty-dirs --no-resave-data SARC StartedAt: 2024-04-17 01:37:58 -0400 (Wed, 17 Apr 2024) EndedAt: 2024-04-17 01:40:38 -0400 (Wed, 17 Apr 2024) EllapsedTime: 160.0 seconds RetCode: 0 Status: OK PackageFile: SARC_1.0.0.tar.gz PackageFileSize: 3.51 MiB