Package: SAIGEgds Version: 2.2.1 Command: /Library/Frameworks/R.framework/Resources/bin/R CMD INSTALL SAIGEgds StartedAt: 2024-04-16 10:15:41 -0400 (Tue, 16 Apr 2024) EndedAt: 2024-04-16 10:16:39 -0400 (Tue, 16 Apr 2024) EllapsedTime: 57.3 seconds RetCode: 0 Status: OK