Package: SAIGEgds Version: 2.2.1 Command: /Library/Frameworks/R.framework/Resources/bin/R CMD check --install=check:SAIGEgds.install-out.txt --library=/Library/Frameworks/R.framework/Resources/library --no-vignettes --timings SAIGEgds_2.2.1.tar.gz StartedAt: 2024-04-18 02:23:40 -0400 (Thu, 18 Apr 2024) EndedAt: 2024-04-18 02:26:36 -0400 (Thu, 18 Apr 2024) EllapsedTime: 176.1 seconds RetCode: 0 Status: OK CheckDir: SAIGEgds.Rcheck Warnings: 0