Package: SAIGEgds Version: 2.2.1 Command: /Library/Frameworks/R.framework/Resources/bin/R CMD build --keep-empty-dirs --no-resave-data SAIGEgds StartedAt: 2024-04-17 01:35:31 -0400 (Wed, 17 Apr 2024) EndedAt: 2024-04-17 01:36:49 -0400 (Wed, 17 Apr 2024) EllapsedTime: 78.0 seconds RetCode: 0 Status: OK PackageFile: SAIGEgds_2.2.1.tar.gz PackageFileSize: 1.991 MiB