Package: S4Arrays Version: 1.2.1 Command: rm -rf S4Arrays.buildbin-libdir && mkdir S4Arrays.buildbin-libdir && /Users/biocbuild/BBS/utils/build-universal.sh S4Arrays_1.2.1.tar.gz /Library/Frameworks/R.framework/Resources/bin/R S4Arrays.buildbin-libdir StartedAt: 2024-04-18 11:05:02 -0400 (Thu, 18 Apr 2024) EndedAt: 2024-04-18 11:05:26 -0400 (Thu, 18 Apr 2024) EllapsedTime: 23.8 seconds RetCode: 0 Status: OK PackageFile: S4Arrays_1.2.1.tgz PackageFileSize: 723.2 KiB