Package: Rtreemix Version: 1.64.0 Command: rm -rf Rtreemix.buildbin-libdir && mkdir Rtreemix.buildbin-libdir && /Users/biocbuild/BBS/utils/build-universal.sh Rtreemix_1.64.0.tar.gz /Library/Frameworks/R.framework/Resources/bin/R Rtreemix.buildbin-libdir StartedAt: 2024-04-18 11:03:53 -0400 (Thu, 18 Apr 2024) EndedAt: 2024-04-18 11:05:02 -0400 (Thu, 18 Apr 2024) EllapsedTime: 68.5 seconds RetCode: 0 Status: OK PackageFile: Rtreemix_1.64.0.tgz PackageFileSize: 1.003 MiB