Package: Rsubread Version: 2.16.1 Command: /Library/Frameworks/R.framework/Resources/bin/R CMD INSTALL Rsubread StartedAt: 2024-04-16 10:04:12 -0400 (Tue, 16 Apr 2024) EndedAt: 2024-04-16 10:04:53 -0400 (Tue, 16 Apr 2024) EllapsedTime: 41.2 seconds RetCode: 0 Status: OK