Package: Rsubread Version: 2.16.1 Command: /Library/Frameworks/R.framework/Resources/bin/R CMD build --keep-empty-dirs --no-resave-data Rsubread StartedAt: 2024-04-17 01:28:40 -0400 (Wed, 17 Apr 2024) EndedAt: 2024-04-17 01:43:05 -0400 (Wed, 17 Apr 2024) EllapsedTime: 865.3 seconds RetCode: 0 Status: OK PackageFile: Rsubread_2.16.1.tar.gz PackageFileSize: 12.94 MiB