Package: Rhtslib Version: 2.4.1 Command: /Library/Frameworks/R.framework/Resources/bin/R CMD check --install=check:Rhtslib.install-out.txt --library=/Library/Frameworks/R.framework/Resources/library --no-vignettes --timings Rhtslib_2.4.1.tar.gz StartedAt: 2024-04-18 01:12:03 -0400 (Thu, 18 Apr 2024) EndedAt: 2024-04-18 01:12:27 -0400 (Thu, 18 Apr 2024) EllapsedTime: 23.7 seconds RetCode: 0 Status: WARNINGS CheckDir: Rhtslib.Rcheck Warnings: 1