Package: Rhisat2 Version: 1.18.0 Command: /Library/Frameworks/R.framework/Resources/bin/R CMD INSTALL Rhisat2 StartedAt: 2024-04-16 11:11:08 -0400 (Tue, 16 Apr 2024) EndedAt: 2024-04-16 11:13:42 -0400 (Tue, 16 Apr 2024) EllapsedTime: 153.8 seconds RetCode: 0 Status: OK