Package: Rhisat2 Version: 1.18.0 Command: /Library/Frameworks/R.framework/Resources/bin/R CMD check --install=check:Rhisat2.install-out.txt --library=/Library/Frameworks/R.framework/Resources/library --no-vignettes --timings Rhisat2_1.18.0.tar.gz StartedAt: 2024-04-18 01:11:48 -0400 (Thu, 18 Apr 2024) EndedAt: 2024-04-18 01:17:09 -0400 (Thu, 18 Apr 2024) EllapsedTime: 320.7 seconds RetCode: 0 Status: WARNINGS CheckDir: Rhisat2.Rcheck Warnings: 1