Package: Rhisat2 Version: 1.18.0 Command: /Library/Frameworks/R.framework/Resources/bin/R CMD build --keep-empty-dirs --no-resave-data Rhisat2 StartedAt: 2024-04-17 00:56:34 -0400 (Wed, 17 Apr 2024) EndedAt: 2024-04-17 00:59:37 -0400 (Wed, 17 Apr 2024) EllapsedTime: 183.9 seconds RetCode: 0 Status: OK PackageFile: Rhisat2_1.18.0.tar.gz PackageFileSize: 6.745 MiB