Package: ReportingTools Version: 2.42.3 Command: /Library/Frameworks/R.framework/Resources/bin/R CMD check --install=check:ReportingTools.install-out.txt --library=/Library/Frameworks/R.framework/Resources/library --no-vignettes --timings ReportingTools_2.42.3.tar.gz StartedAt: 2024-04-18 00:57:43 -0400 (Thu, 18 Apr 2024) EndedAt: 2024-04-18 01:09:35 -0400 (Thu, 18 Apr 2024) EllapsedTime: 712.4 seconds RetCode: 0 Status: OK CheckDir: ReportingTools.Rcheck Warnings: 0