Package: ReportingTools Version: 2.42.3 Command: /Library/Frameworks/R.framework/Resources/bin/R CMD build --keep-empty-dirs --no-resave-data ReportingTools StartedAt: 2024-04-17 00:48:12 -0400 (Wed, 17 Apr 2024) EndedAt: 2024-04-17 00:49:53 -0400 (Wed, 17 Apr 2024) EllapsedTime: 101.1 seconds RetCode: 0 Status: OK PackageFile: ReportingTools_2.42.3.tar.gz PackageFileSize: 1.786 MiB