Package: RegionalST Version: 1.0.1 Command: /Library/Frameworks/R.framework/Resources/bin/R CMD INSTALL RegionalST StartedAt: 2024-04-16 12:51:37 -0400 (Tue, 16 Apr 2024) EndedAt: 2024-04-16 12:52:11 -0400 (Tue, 16 Apr 2024) EllapsedTime: 34.9 seconds RetCode: 0 Status: OK