Package: RedeR Version: 2.6.1 Command: /Library/Frameworks/R.framework/Resources/bin/R CMD build --keep-empty-dirs --no-resave-data RedeR StartedAt: 2024-04-17 00:42:08 -0400 (Wed, 17 Apr 2024) EndedAt: 2024-04-17 00:42:25 -0400 (Wed, 17 Apr 2024) EllapsedTime: 17.2 seconds RetCode: 0 Status: OK PackageFile: RedeR_2.6.1.tar.gz PackageFileSize: 8.331 MiB