Package: RedeR Version: 2.6.1 Command: rm -rf RedeR.buildbin-libdir && mkdir RedeR.buildbin-libdir && /Users/biocbuild/BBS/utils/build-universal.sh RedeR_2.6.1.tar.gz /Library/Frameworks/R.framework/Resources/bin/R RedeR.buildbin-libdir StartedAt: 2024-04-18 10:48:17 -0400 (Thu, 18 Apr 2024) EndedAt: 2024-04-18 10:48:27 -0400 (Thu, 18 Apr 2024) EllapsedTime: 10.4 seconds RetCode: 0 Status: OK PackageFile: RedeR_2.6.1.tgz PackageFileSize: 7.139 MiB