Package: ReadqPCR Version: 1.48.0 Command: /Library/Frameworks/R.framework/Resources/bin/R CMD INSTALL ReadqPCR StartedAt: 2024-04-16 10:07:04 -0400 (Tue, 16 Apr 2024) EndedAt: 2024-04-16 10:07:14 -0400 (Tue, 16 Apr 2024) EllapsedTime: 9.9 seconds RetCode: 0 Status: OK