Package: ReactomeGraph4R Version: 1.10.0 Maintainer: Chi-Lam Poon MaintainerEmail: clpoon807 at gmail.com git_url: https://git.bioconductor.org/packages/ReactomeGraph4R git_branch: RELEASE_3_18 git_last_commit: 01c5bce git_last_commit_date: 2023-10-24 11:34:15 -0400 (Tue, 24 Oct 2023)