Package: ReactomeGSA Version: 1.16.1 Command: rm -rf ReactomeGSA.buildbin-libdir && mkdir ReactomeGSA.buildbin-libdir && /Users/biocbuild/BBS/utils/build-universal.sh ReactomeGSA_1.16.1.tar.gz /Library/Frameworks/R.framework/Resources/bin/R ReactomeGSA.buildbin-libdir StartedAt: 2024-04-18 10:47:41 -0400 (Thu, 18 Apr 2024) EndedAt: 2024-04-18 10:47:51 -0400 (Thu, 18 Apr 2024) EllapsedTime: 10.2 seconds RetCode: 0 Status: OK PackageFile: ReactomeGSA_1.16.1.tgz PackageFileSize: 642.4 KiB