Package: ReQON Version: 1.48.0 Command: /Library/Frameworks/R.framework/Resources/bin/R CMD build --keep-empty-dirs --no-resave-data ReQON StartedAt: 2024-04-17 00:48:54 -0400 (Wed, 17 Apr 2024) EndedAt: 2024-04-17 00:48:56 -0400 (Wed, 17 Apr 2024) EllapsedTime: 1.2 seconds RetCode: 1 Status: ERROR PackageFile: None PackageFileSize: NA