Package: RcwlPipelines Version: 1.18.1 Command: /Library/Frameworks/R.framework/Resources/bin/R CMD INSTALL RcwlPipelines StartedAt: 2024-04-16 12:51:41 -0400 (Tue, 16 Apr 2024) EndedAt: 2024-04-16 12:51:58 -0400 (Tue, 16 Apr 2024) EllapsedTime: 16.8 seconds RetCode: 0 Status: OK