Package: Rbwa Version: 1.6.0 Command: /Library/Frameworks/R.framework/Resources/bin/R CMD check --install=check:Rbwa.install-out.txt --library=/Library/Frameworks/R.framework/Resources/library --no-vignettes --timings Rbwa_1.6.0.tar.gz StartedAt: 2024-04-18 00:28:04 -0400 (Thu, 18 Apr 2024) EndedAt: 2024-04-18 00:28:27 -0400 (Thu, 18 Apr 2024) EllapsedTime: 23.4 seconds RetCode: 0 Status: WARNINGS CheckDir: Rbwa.Rcheck Warnings: 1