Package: RbcBook1 Version: 1.70.0 Command: /Library/Frameworks/R.framework/Resources/bin/R CMD INSTALL RbcBook1 StartedAt: 2024-04-16 10:08:10 -0400 (Tue, 16 Apr 2024) EndedAt: 2024-04-16 10:08:16 -0400 (Tue, 16 Apr 2024) EllapsedTime: 6.0 seconds RetCode: 0 Status: OK