Package: RbcBook1 Version: 1.70.0 Maintainer: Vince Carey MaintainerEmail: stvjc at channing.harvard.edu git_url: https://git.bioconductor.org/packages/RbcBook1 git_branch: RELEASE_3_18 git_last_commit: 751f424 git_last_commit_date: 2023-10-24 09:37:25 -0400 (Tue, 24 Oct 2023)