Package: Rarr Version: 1.2.0 Command: /Library/Frameworks/R.framework/Resources/bin/R CMD build --keep-empty-dirs --no-resave-data Rarr StartedAt: 2024-04-17 00:31:32 -0400 (Wed, 17 Apr 2024) EndedAt: 2024-04-17 00:32:32 -0400 (Wed, 17 Apr 2024) EllapsedTime: 59.4 seconds RetCode: 0 Status: OK PackageFile: Rarr_1.2.0.tar.gz PackageFileSize: 1.301 MiB