Package: RankProd Version: 3.28.0 Command: /Library/Frameworks/R.framework/Resources/bin/R CMD check --install=check:RankProd.install-out.txt --library=/Library/Frameworks/R.framework/Resources/library --no-vignettes --timings RankProd_3.28.0.tar.gz StartedAt: 2024-04-18 00:24:49 -0400 (Thu, 18 Apr 2024) EndedAt: 2024-04-18 00:25:36 -0400 (Thu, 18 Apr 2024) EllapsedTime: 47.9 seconds RetCode: 0 Status: OK CheckDir: RankProd.Rcheck Warnings: 0