Package: RTNsurvival Version: 1.26.0 Command: /Library/Frameworks/R.framework/Resources/bin/R CMD build --keep-empty-dirs --no-resave-data RTNsurvival StartedAt: 2024-04-17 01:30:03 -0400 (Wed, 17 Apr 2024) EndedAt: 2024-04-17 01:31:01 -0400 (Wed, 17 Apr 2024) EllapsedTime: 58.7 seconds RetCode: 0 Status: OK PackageFile: RTNsurvival_1.26.0.tar.gz PackageFileSize: 733.1 KiB