Package: RTN Version: 2.26.0 Command: /Library/Frameworks/R.framework/Resources/bin/R CMD build --keep-empty-dirs --no-resave-data RTN StartedAt: 2024-04-17 01:29:37 -0400 (Wed, 17 Apr 2024) EndedAt: 2024-04-17 01:32:45 -0400 (Wed, 17 Apr 2024) EllapsedTime: 187.9 seconds RetCode: 0 Status: OK PackageFile: RTN_2.26.0.tar.gz PackageFileSize: 10.53 MiB