Package: RTCGA Version: 1.32.0 Command: /Library/Frameworks/R.framework/Resources/bin/R CMD INSTALL RTCGA StartedAt: 2024-04-16 12:48:29 -0400 (Tue, 16 Apr 2024) EndedAt: 2024-04-16 12:48:41 -0400 (Tue, 16 Apr 2024) EllapsedTime: 12.0 seconds RetCode: 0 Status: OK