Package: RTCGA Version: 1.32.0 Command: rm -rf RTCGA.buildbin-libdir && mkdir RTCGA.buildbin-libdir && /Users/biocbuild/BBS/utils/build-universal.sh RTCGA_1.32.0.tar.gz /Library/Frameworks/R.framework/Resources/bin/R RTCGA.buildbin-libdir StartedAt: 2024-04-18 11:03:00 -0400 (Thu, 18 Apr 2024) EndedAt: 2024-04-18 11:03:17 -0400 (Thu, 18 Apr 2024) EllapsedTime: 17.0 seconds RetCode: 0 Status: OK PackageFile: RTCGA_1.32.0.tgz PackageFileSize: 2.426 MiB