Package: RTCA Version: 1.54.0 Command: /Library/Frameworks/R.framework/Resources/bin/R CMD check --install=check:RTCA.install-out.txt --library=/Library/Frameworks/R.framework/Resources/library --no-vignettes --timings RTCA_1.54.0.tar.gz StartedAt: 2024-04-18 02:06:32 -0400 (Thu, 18 Apr 2024) EndedAt: 2024-04-18 02:07:11 -0400 (Thu, 18 Apr 2024) EllapsedTime: 39.7 seconds RetCode: 0 Status: WARNINGS CheckDir: RTCA.Rcheck Warnings: 1